BEGIN:VCALENDAR
VERSION:2.0
PRODID:-//https://www.annetnikamp.nl///NONSGML kigkonsult.se iCalcreator 2.10.15//
METHOD:PUBLISH
BEGIN:VEVENT
UID:20260426T033551CEST-4007NIDehD@https://www.annetnikamp.nl/
DTSTAMP:20260426T013551Z
DESCRIPTION: https://www.annetnikamp.nl/index.php/agenda/evenement/428-asse
 n
DTSTART:20230322T230000Z
DTEND:20230322T230100Z
LOCATION:n.v.t. ()
SUMMARY:Assen
URL:https://www.annetnikamp.nl/index.php/agenda/evenement/428-assen
END:VEVENT
END:VCALENDAR
